BEGIN:VCALENDAR
VERSION:2.0
PRODID:-//Library Market//iCal Export//EN
BEGIN:VEVENT
SUMMARY:Aubrey SG1
UID:7597
DTSTAMP:20260420T013200Z
DTSTART:20260401T134500Z
DTEND:20260401T150000Z
LOCATION:Tipton Library, 127 E Madison St., Tipton, IN 46072, United State
 s
ROOM: Small Group Room 1
DESCRIPTION:
URL:https://tiptoncounty.librarycalendar.com/index.php/event/aubrey-sg1-75
 97
END:VEVENT
END:VCALENDAR
